BEGIN:VCALENDAR
VERSION:2.0
METHOD:PUBLISH
TRANSP:TRANSPARENT
CALSCALE:GREGORIAN
PRODID:-//UnternehmerTUM Events//NONSGML v1.0//EN

BEGIN:VEVENT
DTSTART:20260430T163000Z
DTEND:20260430T180000Z
DTSTAMP:20260414T140500Z
SUMMARY:Innovative Entrepreneurs Lecture Series
DESCRIPTION:Kick off your entrepreneurial journey with Innovative Entrepren
	eurs, designed to connect you directly with those who’ve built, funded and
	 scaled successful ventures. In this session you will get insights from Sa
	rah Fleischer – CEO and Co-founder Tozero\n\n UID:262fda09-bf23-41f4-8ab7-
	6e8a6bd6ee94
LAST-MODIFIED:20260416Z145626Z
LOCATION:
URL:https://www.unternehmertum.de/events/innovative-entrepreneurs-lecture-s
	eries-kick-off-3
END:VEVENT

END:VCALENDAR