BEGIN:VCALENDAR
VERSION:2.0
METHOD:PUBLISH
TRANSP:TRANSPARENT
CALSCALE:GREGORIAN
PRODID:-//UnternehmerTUM Events//NONSGML v1.0//EN

BEGIN:VEVENT
DTSTART:20260702T163000Z
DTEND:20260702T180000Z
DTSTAMP:20260414T140500Z
SUMMARY:Innovative Entrepreneurs Lecture Series
DESCRIPTION:Kick off your entrepreneurial journey with Innovative Entrepren
	eurs, designed to connect you directly with those who’ve built, funded and
	 scaled successful ventures. In this session you will get insights from An
	dreas Loy – Founder and CEO Lucie and Co-founder KONUX\n\n UID:bf4eb2f0-5c
	d2-473e-9b91-7bb735c1e3d0
LAST-MODIFIED:20260417Z092454Z
LOCATION:
URL:https://www.unternehmertum.de/events/innovative-entrepreneurs-lecture-s
	eries-kick-off-5
END:VEVENT

END:VCALENDAR