BEGIN:VCALENDAR
VERSION:2.0
METHOD:PUBLISH
TRANSP:TRANSPARENT
CALSCALE:GREGORIAN
PRODID:-//UnternehmerTUM Events//NONSGML v1.0//EN

BEGIN:VEVENT
DTSTART:20260423T163000Z
DTEND:20260423T180000Z
DTSTAMP:20260414T140500Z
SUMMARY:Innovative Entrepreneurs Lecture Series
DESCRIPTION:Kick off your entrepreneurial journey with Innovative Entrepren
	eurs, designed to connect you directly with those who’ve built, funded and
	 scaled successful ventures. In this session you will get insights from Se
	mir Babajić - Co-Founder & CEO at TreeSense and Max Wittrock - Co-Founder 
	at MyMuesli\n\n UID:7c44941b-6a61-4ace-91e5-bdd1d2ab5496
LAST-MODIFIED:20260417Z092821Z
LOCATION:
URL:https://www.unternehmertum.de/events/innovative-entrepreneurs-lecture-s
	eries-kick-off
END:VEVENT

END:VCALENDAR