BEGIN:VCALENDAR
VERSION:2.0
METHOD:PUBLISH
TRANSP:TRANSPARENT
CALSCALE:GREGORIAN
PRODID:-//UnternehmerTUM Events//NONSGML v1.0//EN

BEGIN:VEVENT
DTSTART:20260429T140000Z
DTEND:20260429T144500Z
DTSTAMP:20260413T092900Z
SUMMARY:TUM Sustainability Day | Resilient Futures: Energy Security, Infras
	tructure and the Circular Economy
DESCRIPTION:At TUM Sustainability Day, TUM presents sustainability as a cen
	tral technological and transformational challenge.\n\n Research, teaching,
	 students, operations, administration, and industry partners showcase conc
	rete solutions for the society of tomorrow — from idea to implementation. 
	The focus is on young talents and international actors who bring innovatio
	ns into practice.\n\n UID:e2904ab1-ee0f-4e55-8a81-2742ebcf7e0c
LAST-MODIFIED:20260413Z095924Z
LOCATION:Research Campus Garching – Room 1250, Boltzmannstraße 15, Garching
	 bei München
URL:https://www.unternehmertum.de/events/tum-sustainability-day-resilient-f
	utures-energy-security-infrastructure-and-the-circular-economy
END:VEVENT

END:VCALENDAR