BEGIN:VCALENDAR
VERSION:2.0
METHOD:PUBLISH
TRANSP:TRANSPARENT
CALSCALE:GREGORIAN
PRODID:-//UnternehmerTUM Events//NONSGML v1.0//EN

BEGIN:VEVENT
DTSTART:20260519T163000Z
DTEND:20260519T190000Z
DTSTAMP:20260408T091000Z
SUMMARY:Women Startup MatchLab
DESCRIPTION:Suchst du nach deinem nächsten Startup-Abenteuer? Lerne Gründer
	:innen kennen und baue vielfältige, leistungsstarke Teams auf.\n\n UID:48b
	32d59-b064-464c-b5c6-1d32cc79e3e1
LAST-MODIFIED:20260422Z064334Z
LOCATION:Munich Urban Colab, Freddie-Mercury-Straße 5, München
URL:https://www.unternehmertum.de/events/women-startup-matchlab
END:VEVENT

END:VCALENDAR